BEGIN:VCALENDAR
VERSION:2.0
PRODID:-//PNWMA - ECPv6.15.18//NONSGML v1.0//EN
CALSCALE:GREGORIAN
METHOD:PUBLISH
X-WR-CALNAME:PNWMA
X-ORIGINAL-URL:https://pnwma.com
X-WR-CALDESC:Events for PNWMA
REFRESH-INTERVAL;VALUE=DURATION:PT1H
X-Robots-Tag:noindex
X-PUBLISHED-TTL:PT1H
BEGIN:VTIMEZONE
TZID:America/Vancouver
BEGIN:DAYLIGHT
TZOFFSETFROM:-0800
TZOFFSETTO:-0700
TZNAME:PDT
DTSTART:20250309T100000
END:DAYLIGHT
BEGIN:STANDARD
TZOFFSETFROM:-0700
TZOFFSETTO:-0800
TZNAME:PST
DTSTART:20251102T090000
END:STANDARD
BEGIN:DAYLIGHT
TZOFFSETFROM:-0800
TZOFFSETTO:-0700
TZNAME:PDT
DTSTART:20260308T100000
END:DAYLIGHT
BEGIN:STANDARD
TZOFFSETFROM:-0700
TZOFFSETTO:-0800
TZNAME:PST
DTSTART:20261101T090000
END:STANDARD
BEGIN:DAYLIGHT
TZOFFSETFROM:-0800
TZOFFSETTO:-0700
TZNAME:PDT
DTSTART:20270314T100000
END:DAYLIGHT
BEGIN:STANDARD
TZOFFSETFROM:-0700
TZOFFSETTO:-0800
TZNAME:PST
DTSTART:20271107T090000
END:STANDARD
END:VTIMEZONE
BEGIN:VEVENT
DTSTART;VALUE=DATE:20260208
DTEND;VALUE=DATE:20260209
DTSTAMP:20260424T113752
CREATED:20230119T011923Z
LAST-MODIFIED:20260307T084409Z
UID:1447-1770508800-1770595199@pnwma.com
SUMMARY:Social BBQ / Membership signup
DESCRIPTION:
URL:https://pnwma.com/calendar/social-bbq-membership-signup/
LOCATION:TrialsBC Riding Area\, Ioco\, British Columbia\, Canada
CATEGORIES:Trial
END:VEVENT
BEGIN:VEVENT
DTSTART;TZID=America/Vancouver:20260218T190000
DTEND;TZID=America/Vancouver:20260218T200000
DTSTAMP:20260424T113752
CREATED:20230120T015344Z
LAST-MODIFIED:20260307T084510Z
UID:2329-1771441200-1771444800@pnwma.com
SUMMARY:PNWMA February Meeting
DESCRIPTION:
URL:https://pnwma.com/calendar/pnwma-february-meeting/
LOCATION:Zoom Meeting
CATEGORIES:Meet
END:VEVENT
END:VCALENDAR